BEGIN:VCALENDAR
VERSION:2.0
PRODID:-//Y Selar//NONSGML Gigs//CY
CALSCALE:GREGORIAN
X-WR-CALNAME:Gigs gan Y Selar
X-WR-CALDESC:Calendr o gigs gorau Cymru wedi eu casglu gan gylchgrawn Y Sel
 ar.
BEGIN:VEVENT
CREATED:20180813T203211Z
MODIFIED:20180813T204211Z
UID:event=1387@selar.cymru
DTSTAMP:20260420T075856Z
DTSTART;VALUE=DATE:20180922T080000Z
DTEND;VALUE=DATE:20180922T223000Z
LOCATION:Nant Gwrtheyrn
SUMMARY:Dathlu Nant Gwrtheyrn yn 40: Band Pres Llareggub\, Alys Williams\, 
 Geraint Løvgreen a’r Enw Da\, Patrobas\, Gwilym Bowen Rhys\, Gethin a G
 lesni
DESCRIPTION:Mae Gŵyl arbennig iawn yn cael ei threfnu ar gyfer penwythnos 
 Dydd Sadwrn 22ai o Fedi eleni\, i ddathlu 40 mlynedd ers sefydlu Ymddiried
 olaeth Nant Gwrtheyrn! Bydd llond y pentref o ddigwyddiadau yn mynd ymlaen
  yn ystod yr wythnos cynt\, ac ar y dydd Sadwrn\, gan gynnwys: Arddangosfa
  ‘Hanesyddol’ yn dilyn datblygiad y Nant rhwng 1978 a 2018 Prynhawn Sa
 dwrn …
ORGANIZER:Y Selar
URL;VALUE=URI:https://selar.cymru/gigs/2018/dathlu-nant-gwrtheyrn-yn-40-cel
 ebrating-40-years-of-nant/
TRANSP:OPAQUE
BEGIN:VALARM
ACTION:DISPLAY
TRIGGER;VALUE=DATE-TIME:20180921T080000Z
DESCRIPTION:Nodyn atgoffa! Dathlu Nant Gwrtheyrn yn 40: Band Pres Llareggub
 \, Alys Williams\, Geraint Løvgreen a’r Enw Da\, Patrobas\, Gwilym Bowe
 n Rhys\, Gethin a Glesni
END:VALARM
END:VEVENT
END:VCALENDAR
