BEGIN:VCALENDAR
VERSION:2.0
PRODID:-//Y Selar//NONSGML Gigs//CY
CALSCALE:GREGORIAN
X-WR-CALNAME:Gigs gan Y Selar
X-WR-CALDESC:Calendr o gigs gorau Cymru wedi eu casglu gan gylchgrawn Y Sel
 ar.
BEGIN:VEVENT
CREATED:20180822T135555Z
MODIFIED:20180822T140324Z
UID:event=1440@selar.cymru
DTSTAMP:20260420T073810Z
DTSTART;VALUE=DATE:20180921T180000Z
DTEND;VALUE=DATE:20180921T210000Z
LOCATION:Clwb Ifor Bach
SUMMARY:HMS Morris – Lansiad Albwm gyda Smudges & Ya Yonder
DESCRIPTION:Ni’n hapus iawn i gyhoeddi mi fydd HMS Morris yn lansio eu al
 bym yma yng Nghlwb Ifor Bach mis Medi yma. Mi fydd Smudges a Ya Yonder yn 
 cefnogi!
ORGANIZER:Y Selar
URL;VALUE=URI:https://selar.cymru/gigs/2018/hms-morris-album-launch-cardiff
 -with-smudges-ya-yonder/
TRANSP:OPAQUE
BEGIN:VALARM
ACTION:DISPLAY
TRIGGER;VALUE=DATE-TIME:20180920T180000Z
DESCRIPTION:Nodyn atgoffa! HMS Morris – Lansiad Albwm gyda Smudges & Ya Y
 onder
END:VALARM
END:VEVENT
END:VCALENDAR
