BEGIN:VCALENDAR
VERSION:2.0
PRODID:-//Y Selar//NONSGML Gigs//CY
CALSCALE:GREGORIAN
X-WR-CALNAME:Gigs gan Y Selar
X-WR-CALDESC:Calendr o gigs gorau Cymru wedi eu casglu gan gylchgrawn Y Sel
 ar.
BEGIN:VEVENT
CREATED:20180704T132615Z
UID:event=986@selar.cymru
DTSTAMP:20260420T074010Z
DTSTART;VALUE=DATE:20180922T140000Z
DTEND;VALUE=DATE:20180922T230000Z
LOCATION:Nanhoron Arms Hotel\, Nefyn
SUMMARY:Parti’r Ardd – Bryn Fôn a llawer mwy
DESCRIPTION:
ORGANIZER:Y Selar
URL;VALUE=URI:https://selar.cymru/gigs/2018/partir-ardd-bryn-fon-a-llawer-m
 wy/
TRANSP:OPAQUE
GEO:52.935368;-4.522410
BEGIN:VALARM
ACTION:DISPLAY
TRIGGER;VALUE=DATE-TIME:20180921T140000Z
DESCRIPTION:Nodyn atgoffa! Parti’r Ardd – Bryn Fôn a llawer mwy
END:VALARM
END:VEVENT
END:VCALENDAR
