BEGIN:VCALENDAR
VERSION:2.0
PRODID:-//Y Selar//NONSGML Gigs//CY
CALSCALE:GREGORIAN
X-WR-CALNAME:Gigs gan Y Selar
X-WR-CALDESC:Calendr o gigs gorau Cymru wedi eu casglu gan gylchgrawn Y Sel
 ar.
BEGIN:VEVENT
CREATED:20190802T075737Z
UID:event=2976@selar.cymru
DTSTAMP:20260421T084621Z
DTSTART;VALUE=DATE:20190904T180000Z
DTEND;VALUE=DATE:20190904T210000Z
LOCATION:SWG3
SUMMARY:Adwaith | SWG3
DESCRIPTION:
ORGANIZER:Y Selar
URL;VALUE=URI:https://selar.cymru/gigs/2019/adwaith-swg3/
TRANSP:OPAQUE
GEO:55.864597;-4.299665
BEGIN:VALARM
ACTION:DISPLAY
TRIGGER;VALUE=DATE-TIME:20190903T180000Z
DESCRIPTION:Nodyn atgoffa! Adwaith | SWG3
END:VALARM
END:VEVENT
END:VCALENDAR
