BEGIN:VCALENDAR
VERSION:2.0
PRODID:-//Y Selar//NONSGML Gigs//CY
CALSCALE:GREGORIAN
X-WR-CALNAME:Gigs gan Y Selar
X-WR-CALDESC:Calendr o gigs gorau Cymru wedi eu casglu gan gylchgrawn Y Sel
 ar.
BEGIN:VEVENT
CREATED:20190919T202107Z
UID:event=3192@selar.cymru
DTSTAMP:20260422T091123Z
DTSTART;VALUE=DATE:20191011T190000Z
DTEND;VALUE=DATE:20191011T230000Z
LOCATION:Neuadd Ogwen\, Bethesda
SUMMARY:Bardd @Neuadd Ogwen
DESCRIPTION:
ORGANIZER:Y Selar
URL;VALUE=URI:https://selar.cymru/gigs/2019/bardd-neuadd-ogwen/
TRANSP:OPAQUE
GEO:53.180339;-4.063259
BEGIN:VALARM
ACTION:DISPLAY
TRIGGER;VALUE=DATE-TIME:20191010T190000Z
DESCRIPTION:Nodyn atgoffa! Bardd @Neuadd Ogwen
END:VALARM
END:VEVENT
END:VCALENDAR
