BEGIN:VCALENDAR
VERSION:2.0
PRODID:-//Y Selar//NONSGML Gigs//CY
CALSCALE:GREGORIAN
X-WR-CALNAME:Gigs gan Y Selar
X-WR-CALDESC:Calendr o gigs gorau Cymru wedi eu casglu gan gylchgrawn Y Sel
 ar.
BEGIN:VEVENT
CREATED:20190328T101113Z
UID:event=2482@selar.cymru
DTSTAMP:20260420T065552Z
DTSTART;VALUE=DATE:20190622T160000Z
DTEND;VALUE=DATE:20190622T230000Z
LOCATION:Neuadd Goffa Llanllyfni
SUMMARY:#caeffest ‘19
DESCRIPTION:
ORGANIZER:Y Selar
URL;VALUE=URI:https://selar.cymru/gigs/2019/caeffest-19/
TRANSP:OPAQUE
GEO:53.043054;-4.282741
BEGIN:VALARM
ACTION:DISPLAY
TRIGGER;VALUE=DATE-TIME:20190621T160000Z
DESCRIPTION:Nodyn atgoffa! #caeffest ‘19
END:VALARM
END:VEVENT
END:VCALENDAR
