BEGIN:VCALENDAR
VERSION:2.0
PRODID:-//Y Selar//NONSGML Gigs//CY
CALSCALE:GREGORIAN
X-WR-CALNAME:Gigs gan Y Selar
X-WR-CALDESC:Calendr o gigs gorau Cymru wedi eu casglu gan gylchgrawn Y Sel
 ar.
BEGIN:VEVENT
CREATED:20190118T213615Z
MODIFIED:20190121T144957Z
UID:event=2136@selar.cymru
DTSTAMP:20260419T215753Z
DTSTART;VALUE=DATE:20190202T200000Z
DTEND;VALUE=DATE:20190202T235900Z
LOCATION:Y Selar Aberteifi
SUMMARY:Gai Toms\, Rhosier Morgan\, Barddoniaeth Menna Elfyn
DESCRIPTION:
ORGANIZER:Y Selar
URL;VALUE=URI:https://selar.cymru/gigs/2019/gai-toms-rhosier-morgan-barddon
 iaeth-menna-elfyn-aberteifi/
TRANSP:OPAQUE
GEO:52.081897;-4.661550
BEGIN:VALARM
ACTION:DISPLAY
TRIGGER;VALUE=DATE-TIME:20190201T200000Z
DESCRIPTION:Nodyn atgoffa! Gai Toms\, Rhosier Morgan\, Barddoniaeth Menna E
 lfyn
END:VALARM
END:VEVENT
END:VCALENDAR
