BEGIN:VCALENDAR
VERSION:2.0
PRODID:-//Y Selar//NONSGML Gigs//CY
CALSCALE:GREGORIAN
X-WR-CALNAME:Gigs gan Y Selar
X-WR-CALDESC:Calendr o gigs gorau Cymru wedi eu casglu gan gylchgrawn Y Sel
 ar.
BEGIN:VEVENT
CREATED:20190629T220440Z
UID:event=2880@selar.cymru
DTSTAMP:20260421T101346Z
DTSTART;VALUE=DATE:20190720T183000Z
DTEND;VALUE=DATE:20190720T223000Z
LOCATION:Neuadd Ogwen\, Bethesda
SUMMARY:Geraint Jarman\, Maffia
DESCRIPTION:
ORGANIZER:Y Selar
URL;VALUE=URI:https://selar.cymru/gigs/2019/geraint-jarman-maffia/
TRANSP:OPAQUE
GEO:53.180339;-4.063259
BEGIN:VALARM
ACTION:DISPLAY
TRIGGER;VALUE=DATE-TIME:20190719T183000Z
DESCRIPTION:Nodyn atgoffa! Geraint Jarman\, Maffia
END:VALARM
END:VEVENT
END:VCALENDAR
