BEGIN:VCALENDAR
VERSION:2.0
PRODID:-//Y Selar//NONSGML Gigs//CY
CALSCALE:GREGORIAN
X-WR-CALNAME:Gigs gan Y Selar
X-WR-CALDESC:Calendr o gigs gorau Cymru wedi eu casglu gan gylchgrawn Y Sel
 ar.
BEGIN:VEVENT
CREATED:20190311T105714Z
UID:event=2389@selar.cymru
DTSTAMP:20260419T201253Z
DTSTART;VALUE=DATE:20190412T183000Z
DTEND;VALUE=DATE:20190412T230000Z
LOCATION:Clwb Canol Dre
SUMMARY:Gig Alffa\, Gwilym a Lewys
DESCRIPTION:
ORGANIZER:Y Selar
URL;VALUE=URI:https://selar.cymru/gigs/2019/gig-alffa-gwilym-a-lewys/
TRANSP:OPAQUE
GEO:53.140895;-4.277163
BEGIN:VALARM
ACTION:DISPLAY
TRIGGER;VALUE=DATE-TIME:20190411T183000Z
DESCRIPTION:Nodyn atgoffa! Gig Alffa\, Gwilym a Lewys
END:VALARM
END:VEVENT
END:VCALENDAR
