BEGIN:VCALENDAR
VERSION:2.0
PRODID:-//Y Selar//NONSGML Gigs//CY
CALSCALE:GREGORIAN
X-WR-CALNAME:Gigs gan Y Selar
X-WR-CALDESC:Calendr o gigs gorau Cymru wedi eu casglu gan gylchgrawn Y Sel
 ar.
BEGIN:VEVENT
CREATED:20190618T091357Z
UID:event=2836@selar.cymru
DTSTAMP:20260420T065450Z
DTSTART;VALUE=DATE:20190622T130000Z
DTEND;VALUE=DATE:20190622T190000Z
LOCATION:Gwinllan Llaethliw Vineyard
SUMMARY:Gig Gwin a Mwg
DESCRIPTION:
ORGANIZER:Y Selar
URL;VALUE=URI:https://selar.cymru/gigs/2019/gig-gwin-a-mwg/
TRANSP:OPAQUE
GEO:52.213430;-4.234620
BEGIN:VALARM
ACTION:DISPLAY
TRIGGER;VALUE=DATE-TIME:20190621T130000Z
DESCRIPTION:Nodyn atgoffa! Gig Gwin a Mwg
END:VALARM
END:VEVENT
END:VCALENDAR
