BEGIN:VCALENDAR
VERSION:2.0
PRODID:-//Y Selar//NONSGML Gigs//CY
CALSCALE:GREGORIAN
X-WR-CALNAME:Gigs gan Y Selar
X-WR-CALDESC:Calendr o gigs gorau Cymru wedi eu casglu gan gylchgrawn Y Sel
 ar.
BEGIN:VEVENT
CREATED:20190403T111612Z
UID:event=2515@selar.cymru
DTSTAMP:20260419T201008Z
DTSTART;VALUE=DATE:20190412T183000Z
DTEND;VALUE=DATE:20190412T220000Z
LOCATION:Neuadd Ogwen\, Bethesda
SUMMARY:Jeremy Dutcher & 9Bach Noeth
DESCRIPTION:
ORGANIZER:Y Selar
URL;VALUE=URI:https://selar.cymru/gigs/2019/jeremy-dutcher-9bach-noeth/
TRANSP:OPAQUE
GEO:53.180339;-4.063259
BEGIN:VALARM
ACTION:DISPLAY
TRIGGER;VALUE=DATE-TIME:20190411T183000Z
DESCRIPTION:Nodyn atgoffa! Jeremy Dutcher & 9Bach Noeth
END:VALARM
END:VEVENT
END:VCALENDAR
