BEGIN:VCALENDAR
VERSION:2.0
PRODID:-//Y Selar//NONSGML Gigs//CY
CALSCALE:GREGORIAN
X-WR-CALNAME:Gigs gan Y Selar
X-WR-CALDESC:Calendr o gigs gorau Cymru wedi eu casglu gan gylchgrawn Y Sel
 ar.
BEGIN:VEVENT
CREATED:20190606T192420Z
UID:event=2759@selar.cymru
DTSTAMP:20260420T065546Z
DTSTART;VALUE=DATE:20190621T193000Z
DTEND;VALUE=DATE:20190621T223000Z
LOCATION:Galeri (Caernarfon)
SUMMARY:Lansio CD Mae’r Haul Wedi Dod
DESCRIPTION:
ORGANIZER:Y Selar
URL;VALUE=URI:https://selar.cymru/gigs/2019/lansio-cd-maer-haul-wedi-dod/
TRANSP:OPAQUE
GEO:53.143051;-4.275162
BEGIN:VALARM
ACTION:DISPLAY
TRIGGER;VALUE=DATE-TIME:20190620T193000Z
DESCRIPTION:Nodyn atgoffa! Lansio CD Mae’r Haul Wedi Dod
END:VALARM
END:VEVENT
END:VCALENDAR
