BEGIN:VCALENDAR
VERSION:2.0
PRODID:-//Y Selar//NONSGML Gigs//CY
CALSCALE:GREGORIAN
X-WR-CALNAME:Gigs gan Y Selar
X-WR-CALDESC:Calendr o gigs gorau Cymru wedi eu casglu gan gylchgrawn Y Sel
 ar.
BEGIN:VEVENT
CREATED:20190411T214044Z
UID:event=2547@selar.cymru
DTSTAMP:20260420T065854Z
DTSTART;VALUE=DATE:20190623T210000Z
DTEND;VALUE=DATE:20190624T020000Z
LOCATION:Clwb Ifor Bach
SUMMARY:Parti Diwedd Tafwyl gyda DJ Gareth Potter
DESCRIPTION:
ORGANIZER:Y Selar
URL;VALUE=URI:https://selar.cymru/gigs/2019/parti-diwedd-tafwyl-gyda-dj-gar
 eth-potter/
TRANSP:OPAQUE
BEGIN:VALARM
ACTION:DISPLAY
TRIGGER;VALUE=DATE-TIME:20190622T210000Z
DESCRIPTION:Nodyn atgoffa! Parti Diwedd Tafwyl gyda DJ Gareth Potter
END:VALARM
END:VEVENT
END:VCALENDAR
