BEGIN:VCALENDAR
VERSION:2.0
PRODID:-//Y Selar//NONSGML Gigs//CY
CALSCALE:GREGORIAN
X-WR-CALNAME:Gigs gan Y Selar
X-WR-CALDESC:Calendr o gigs gorau Cymru wedi eu casglu gan gylchgrawn Y Sel
 ar.
BEGIN:VEVENT
CREATED:20190328T212431Z
UID:event=2492@selar.cymru
DTSTAMP:20260420T070135Z
DTSTART;VALUE=DATE:20190621T163000Z
DTEND;VALUE=DATE:20190621T210000Z
LOCATION:Castell Caerdydd
SUMMARY:Pyst + Tafwyl yn cyflwyno / presents:
DESCRIPTION:
ORGANIZER:Y Selar
URL;VALUE=URI:https://selar.cymru/gigs/2019/pyst-tafwyl-yn-cyflwyno-present
 s/
TRANSP:OPAQUE
GEO:51.481690;-3.180577
BEGIN:VALARM
ACTION:DISPLAY
TRIGGER;VALUE=DATE-TIME:20190620T163000Z
DESCRIPTION:Nodyn atgoffa! Pyst + Tafwyl yn cyflwyno / presents:
END:VALARM
END:VEVENT
END:VCALENDAR
