BEGIN:VCALENDAR
VERSION:2.0
PRODID:-//Y Selar//NONSGML Gigs//CY
CALSCALE:GREGORIAN
X-WR-CALNAME:Gigs gan Y Selar
X-WR-CALDESC:Calendr o gigs gorau Cymru wedi eu casglu gan gylchgrawn Y Sel
 ar.
BEGIN:VEVENT
CREATED:20190411T214316Z
UID:event=2552@selar.cymru
DTSTAMP:20260420T065709Z
DTSTART;VALUE=DATE:20190621T210000Z
DTEND;VALUE=DATE:20190622T010000Z
LOCATION:Clwb Ifor Bach
SUMMARY:ReuVival Caneuon o’r Ugeinfed Ganrif – Lugg + Potter
DESCRIPTION:
ORGANIZER:Y Selar
URL;VALUE=URI:https://selar.cymru/gigs/2019/reuvival-caneuon-or-ugeinfed-ga
 nrif-lugg-potter/
TRANSP:OPAQUE
BEGIN:VALARM
ACTION:DISPLAY
TRIGGER;VALUE=DATE-TIME:20190620T210000Z
DESCRIPTION:Nodyn atgoffa! ReuVival Caneuon o’r Ugeinfed Ganrif – Lugg 
 + Potter
END:VALARM
END:VEVENT
END:VCALENDAR
