BEGIN:VCALENDAR
VERSION:2.0
PRODID:-//Y Selar//NONSGML Gigs//CY
CALSCALE:GREGORIAN
X-WR-CALNAME:Gigs gan Y Selar
X-WR-CALDESC:Calendr o gigs gorau Cymru wedi eu casglu gan gylchgrawn Y Sel
 ar.
BEGIN:VEVENT
CREATED:20190121T144024Z
UID:event=2144@selar.cymru
DTSTAMP:20260420T065444Z
DTSTART;VALUE=DATE:20190622T100000Z
DTEND;VALUE=DATE:20190623T210000Z
LOCATION:Castell Caerdydd
SUMMARY:Tafwyl 2019
DESCRIPTION:
ORGANIZER:Y Selar
URL;VALUE=URI:https://selar.cymru/gigs/2019/tafwyl-2019/
TRANSP:OPAQUE
GEO:51.481690;-3.180577
BEGIN:VALARM
ACTION:DISPLAY
TRIGGER;VALUE=DATE-TIME:20190621T100000Z
DESCRIPTION:Nodyn atgoffa! Tafwyl 2019
END:VALARM
END:VEVENT
END:VCALENDAR
