BEGIN:VCALENDAR
VERSION:2.0
PRODID:-//Y Selar//NONSGML Gigs//CY
CALSCALE:GREGORIAN
X-WR-CALNAME:Gigs gan Y Selar
X-WR-CALDESC:Calendr o gigs gorau Cymru wedi eu casglu gan gylchgrawn Y Sel
 ar.
BEGIN:VEVENT
CREATED:20181126T093526Z
MODIFIED:20181128T165441Z
UID:event=1923@selar.cymru
DTSTAMP:20260419T203252Z
DTSTART;VALUE=DATE:20190412T183000Z
DTEND;VALUE=DATE:20190412T213000Z
LOCATION:Tŷ Pawb
SUMMARY:The Trials of Cato gyda Gwilym Bowen Rhys
DESCRIPTION:
ORGANIZER:Y Selar
URL;VALUE=URI:https://selar.cymru/gigs/2019/the-trials-of-cato-gyda-with-gw
 ilym-bowen-rhys/
TRANSP:OPAQUE
GEO:53.046990;-2.990600
BEGIN:VALARM
ACTION:DISPLAY
TRIGGER;VALUE=DATE-TIME:20190411T183000Z
DESCRIPTION:Nodyn atgoffa! The Trials of Cato gyda Gwilym Bowen Rhys
END:VALARM
END:VEVENT
END:VCALENDAR
