BEGIN:VCALENDAR
VERSION:2.0
PRODID:-//Y Selar//NONSGML Gigs//CY
CALSCALE:GREGORIAN
X-WR-CALNAME:Gigs gan Y Selar
X-WR-CALDESC:Calendr o gigs gorau Cymru wedi eu casglu gan gylchgrawn Y Sel
 ar.
BEGIN:VEVENT
CREATED:20190331T193119Z
UID:event=2506@selar.cymru
DTSTAMP:20260419T203246Z
DTSTART;VALUE=DATE:20190412T190000Z
DTEND;VALUE=DATE:20190412T220000Z
LOCATION:Llangywer
SUMMARY:VRï a Gwyneth Glyn\, Neuadd Llangywer 12/04/19
DESCRIPTION:
ORGANIZER:Y Selar
URL;VALUE=URI:https://selar.cymru/gigs/2019/vri-a-gwyneth-glyn-neuadd-llang
 ywer-12-04-19/
TRANSP:OPAQUE
GEO:52.876000;-3.628390
BEGIN:VALARM
ACTION:DISPLAY
TRIGGER;VALUE=DATE-TIME:20190411T190000Z
DESCRIPTION:Nodyn atgoffa! VRï a Gwyneth Glyn\, Neuadd Llangywer 12/04/19
END:VALARM
END:VEVENT
END:VCALENDAR
