BEGIN:VCALENDAR
VERSION:2.0
PRODID:-//Y Selar//NONSGML Gigs//CY
CALSCALE:GREGORIAN
X-WR-CALNAME:Gigs gan Y Selar
X-WR-CALDESC:Calendr o gigs gorau Cymru wedi eu casglu gan gylchgrawn Y Sel
 ar.
BEGIN:VEVENT
CREATED:20190331T193055Z
MODIFIED:20190411T191842Z
UID:event=2502@selar.cymru
DTSTAMP:20260419T203453Z
DTSTART;VALUE=DATE:20190413T180000Z
DTEND;VALUE=DATE:20190413T210000Z
LOCATION:RWYC – The Royal Welsh Yacht Club
SUMMARY:VRI yn RWYC
DESCRIPTION:
ORGANIZER:Y Selar
URL;VALUE=URI:https://selar.cymru/gigs/2019/vri-yn-rwyc-%e2%80%a2-vri-at-th
 e-rwyc/
TRANSP:OPAQUE
GEO:53.140690;-4.278090
BEGIN:VALARM
ACTION:DISPLAY
TRIGGER;VALUE=DATE-TIME:20190412T180000Z
DESCRIPTION:Nodyn atgoffa! VRI yn RWYC
END:VALARM
END:VEVENT
END:VCALENDAR
