BEGIN:VCALENDAR
VERSION:2.0
PRODID:-//Y Selar//NONSGML Gigs//CY
CALSCALE:GREGORIAN
X-WR-CALNAME:Gigs gan Y Selar
X-WR-CALDESC:Calendr o gigs gorau Cymru wedi eu casglu gan gylchgrawn Y Sel
 ar.
BEGIN:VEVENT
CREATED:20210917T145758Z
UID:event=7014@selar.cymru
DTSTAMP:20260421T101941Z
DTSTART;VALUE=DATE:20210924T183000Z
DTEND;VALUE=DATE:20210924T220000Z
LOCATION:Clwb Y Bont\, Pontypridd
SUMMARY:Morgan Elwy a’r Band
DESCRIPTION:Mae Morgan Elwy ar band yn dod o Ddyffryn Clwyd. Ers ennill Câ
 n i Gymru 2021 mae Morgan wedi rhyddhau ei album unigol cyntaf sef ‘Teim
 lo’r Awen’. Mae’n edrych ymael i ddod a’i set o reggea-rock a blue
 s Cymraeg lawr i Bontypridd. Yn y band fydd Robbie Lorey ar y bass\, Gruff
  Roberts ar y drymiau a’r canwr Jacob Elwy …
ORGANIZER:Y Selar
URL;VALUE=URI:https://selar.cymru/gigs/2021/morgan-elwy-ar-band/
TRANSP:OPAQUE
GEO:51.601665;-3.340101
BEGIN:VALARM
ACTION:DISPLAY
TRIGGER;VALUE=DATE-TIME:20210923T183000Z
DESCRIPTION:Nodyn atgoffa! Morgan Elwy a’r Band
END:VALARM
END:VEVENT
END:VCALENDAR
