BEGIN:VCALENDAR
VERSION:2.0
PRODID:-//Y Selar//NONSGML Gigs//CY
CALSCALE:GREGORIAN
X-WR-CALNAME:Gigs gan Y Selar
X-WR-CALDESC:Calendr o gigs gorau Cymru wedi eu casglu gan gylchgrawn Y Sel
 ar.
BEGIN:VEVENT
CREATED:20220624T072537Z
MODIFIED:20220624T072626Z
UID:event=8331@selar.cymru
DTSTAMP:20260419T235629Z
DTSTART;VALUE=DATE:20220903T183000Z
DTEND;VALUE=DATE:20220903T223000Z
LOCATION:Le Pub Casnewydd
SUMMARY:Adwaith / The Rotanas / Murder Club – #LePub30
DESCRIPTION:
ORGANIZER:Y Selar
URL;VALUE=URI:https://selar.cymru/gigs/2022/adwaith-the-rotanas-murder-club
 -lepub30/
TRANSP:OPAQUE
GEO:51.589466;-2.997006
BEGIN:VALARM
ACTION:DISPLAY
TRIGGER;VALUE=DATE-TIME:20220902T183000Z
DESCRIPTION:Nodyn atgoffa! Adwaith / The Rotanas / Murder Club – #LePub30
END:VALARM
END:VEVENT
END:VCALENDAR
