BEGIN:VCALENDAR
VERSION:2.0
PRODID:-//Y Selar//NONSGML Gigs//CY
CALSCALE:GREGORIAN
X-WR-CALNAME:Gigs gan Y Selar
X-WR-CALDESC:Calendr o gigs gorau Cymru wedi eu casglu gan gylchgrawn Y Sel
 ar.
BEGIN:VEVENT
CREATED:20220911T160800Z
UID:event=8648@selar.cymru
DTSTAMP:20260419T120322Z
DTSTART;VALUE=DATE:20220916T180000Z
DTEND;VALUE=DATE:20220916T220000Z
LOCATION:The Moon Caerdydd
SUMMARY:Gigs Cefn Car – Cai\, Ble\, Mari Mathias. Tesni Hughes
DESCRIPTION:
ORGANIZER:Y Selar
URL;VALUE=URI:https://selar.cymru/gigs/2022/gigs-cefn-car-cai-ble-mari-math
 ias-tesni-hughes/
TRANSP:OPAQUE
GEO:51.480167;-3.181937
BEGIN:VALARM
ACTION:DISPLAY
TRIGGER;VALUE=DATE-TIME:20220915T180000Z
DESCRIPTION:Nodyn atgoffa! Gigs Cefn Car – Cai\, Ble\, Mari Mathias. Tesn
 i Hughes
END:VALARM
END:VEVENT
END:VCALENDAR
