BEGIN:VCALENDAR
VERSION:2.0
PRODID:-//Y Selar//NONSGML Gigs//CY
CALSCALE:GREGORIAN
X-WR-CALNAME:Gigs gan Y Selar
X-WR-CALDESC:Calendr o gigs gorau Cymru wedi eu casglu gan gylchgrawn Y Sel
 ar.
BEGIN:VEVENT
CREATED:20220907T102957Z
UID:event=8623@selar.cymru
DTSTAMP:20260419T120457Z
DTSTART;VALUE=DATE:20220916T180000Z
DTEND;VALUE=DATE:20220916T210000Z
LOCATION:Clwb Ifor Bach
SUMMARY:HMS Morris\, Wooze
DESCRIPTION:Ail docyn am ddim os ydych chi’n prynu un!
ORGANIZER:Y Selar
URL;VALUE=URI:https://selar.cymru/gigs/2022/hms-morris-wooze/
TRANSP:OPAQUE
BEGIN:VALARM
ACTION:DISPLAY
TRIGGER;VALUE=DATE-TIME:20220915T180000Z
DESCRIPTION:Nodyn atgoffa! HMS Morris\, Wooze
END:VALARM
END:VEVENT
END:VCALENDAR
