BEGIN:VCALENDAR
VERSION:2.0
PRODID:-//Y Selar//NONSGML Gigs//CY
CALSCALE:GREGORIAN
X-WR-CALNAME:Gigs gan Y Selar
X-WR-CALDESC:Calendr o gigs gorau Cymru wedi eu casglu gan gylchgrawn Y Sel
 ar.
BEGIN:VEVENT
CREATED:20220318T140532Z
UID:event=7985@selar.cymru
DTSTAMP:20260424T165929Z
DTSTART;VALUE=DATE:20220318T190000Z
DTEND;VALUE=DATE:20220318T230000Z
LOCATION:Clwb Ifor Bach
SUMMARY:Pys Melyn\, Gwenno Morgan\, Bitw
DESCRIPTION:I ddathlu Dydd Miwsig Cymru eleni\, mae Clwb Ifor Bach a Miwsig
  wedi trefnu taith arbennig o amgylch Cymru. Felly ewch allan i’ch gigfa
 n lleol i fwynhau gwledd o gerddoriaeth gan rhai o artistiaid gorau Cymru.
ORGANIZER:Y Selar
URL;VALUE=URI:https://selar.cymru/gigs/2022/pys-melyn-gwenno-morgan-bitw/
TRANSP:OPAQUE
BEGIN:VALARM
ACTION:DISPLAY
TRIGGER;VALUE=DATE-TIME:20220317T190000Z
DESCRIPTION:Nodyn atgoffa! Pys Melyn\, Gwenno Morgan\, Bitw
END:VALARM
END:VEVENT
END:VCALENDAR
