BEGIN:VCALENDAR
VERSION:2.0
PRODID:-//Y Selar//NONSGML Gigs//CY
CALSCALE:GREGORIAN
X-WR-CALNAME:Gigs gan Y Selar
X-WR-CALDESC:Calendr o gigs gorau Cymru wedi eu casglu gan gylchgrawn Y Sel
 ar.
BEGIN:VEVENT
CREATED:20230712T155150Z
UID:event=9855@selar.cymru
DTSTAMP:20260419T124355Z
DTSTART;VALUE=DATE:20230810
DTEND;VALUE=DATE:20230811
LOCATION:Cwrw Llŷn
SUMMARY:Bwca
DESCRIPTION:
ORGANIZER:Y Selar
URL;VALUE=URI:https://selar.cymru/gigs/2023/bwca-4/
TRANSP:OPAQUE
GEO:52.935110;-4.527710
BEGIN:VALARM
ACTION:DISPLAY
TRIGGER;VALUE=DATE-TIME:20230810T004355Z
DESCRIPTION:Nodyn atgoffa! Bwca
END:VALARM
END:VEVENT
END:VCALENDAR
