BEGIN:VCALENDAR
VERSION:2.0
PRODID:-//Y Selar//NONSGML Gigs//CY
CALSCALE:GREGORIAN
X-WR-CALNAME:Gigs gan Y Selar
X-WR-CALDESC:Calendr o gigs gorau Cymru wedi eu casglu gan gylchgrawn Y Sel
 ar.
BEGIN:VEVENT
CREATED:20230120T210809Z
UID:event=9116@selar.cymru
DTSTAMP:20260424T163808Z
DTSTART;VALUE=DATE:20230210T190000Z
DTEND;VALUE=DATE:20230210T230000Z
LOCATION:Canlfan Hermon
SUMMARY:Gwobr Goffa Richard a Wyn Ail Symudiad
DESCRIPTION:Manylion Cystadleuaeth flynyddol i wobrwyo artistiaid ifanc new
 ydd o Sir Benfro\, Sir Gâr neu Geredigion a rhoi hwb i’w gyrfa cerddoro
 l. Yn agored i fandiau neu artist ifanc. Rhaid perfformio yn Gymraeg. Gal
 l y perfformiad fod yn cynnwys canu neu offerynnol. Set o dim mwy na chwar
 ter awr. Oes gennych gân newydd\, wreiddiol? Gorau i gyd ond nid yw hwn y
 n …
ORGANIZER:Y Selar
URL;VALUE=URI:https://selar.cymru/gigs/2023/gwobr-goffa-richard-a-wyn-ail-s
 ymudiad/
TRANSP:OPAQUE
BEGIN:VALARM
ACTION:DISPLAY
TRIGGER;VALUE=DATE-TIME:20230209T190000Z
DESCRIPTION:Nodyn atgoffa! Gwobr Goffa Richard a Wyn Ail Symudiad
END:VALARM
END:VEVENT
END:VCALENDAR
